BEGIN:VCALENDAR
VERSION:2.0
PRODID:-//JRJ Music Productions - ECPv6.15.20//NONSGML v1.0//EN
CALSCALE:GREGORIAN
METHOD:PUBLISH
X-ORIGINAL-URL:https://jrjmusicproductions.com
X-WR-CALDESC:Events for JRJ Music Productions
REFRESH-INTERVAL;VALUE=DURATION:PT1H
X-Robots-Tag:noindex
X-PUBLISHED-TTL:PT1H
BEGIN:VTIMEZONE
TZID:UTC
BEGIN:STANDARD
TZOFFSETFROM:+0000
TZOFFSETTO:+0000
TZNAME:UTC
DTSTART:20190101T000000
END:STANDARD
END:VTIMEZONE
BEGIN:VEVENT
DTSTART;TZID=UTC:20251215T140000
DTEND;TZID=UTC:20251215T160000
DTSTAMP:20260423T151901
CREATED:20250925T001614Z
LAST-MODIFIED:20250925T001943Z
UID:2158-1765807200-1765814400@jrjmusicproductions.com
SUMMARY:Birmingham Airport Saxophone Performance (Dec. 15)
DESCRIPTION:December 15\, 2025 from 2pm-4pm \nBirmingham Airport Authority\n5900 Messer Airport Hwy\nBirmingham\, AL 35212 \nCatching a flight soon? Book it on Dec. 15th and join me at the Birmingham Airport for some beautiful saxophone by yours truly.
URL:https://jrjmusicproductions.com/event/birmingham-airport-saxophone-performance/
END:VEVENT
BEGIN:VEVENT
DTSTART;TZID=UTC:20251124T140000
DTEND;TZID=UTC:20251124T160000
DTSTAMP:20260423T151901
CREATED:20250924T072138Z
LAST-MODIFIED:20250925T002042Z
UID:2155-1763992800-1764000000@jrjmusicproductions.com
SUMMARY:Birmingham Airport Saxophone Performance (November 24)
DESCRIPTION:November 24\, 2025 from 2pm-4pm \nBirmingham Airport Authority\n5900 Messer Airport Hwy\nBirmingham\, AL 35212 \nCatching a flight soon? Book it on Nov. 24th and join me at the Birmingham Airport for some beautiful saxophone by yours truly.
URL:https://jrjmusicproductions.com/event/birmingham-airport-saxophone-performance-november-24/
END:VEVENT
BEGIN:VEVENT
DTSTART;TZID=UTC:20251110T190000
DTEND;TZID=UTC:20251110T203000
DTSTAMP:20260423T151901
CREATED:20250925T001003Z
LAST-MODIFIED:20250925T001003Z
UID:2148-1762801200-1762806600@jrjmusicproductions.com
SUMMARY:The UAB Gospel Choir Concert
DESCRIPTION:Monday\, November 10\, 2025\, 7 p.m.\nMore Than Conquers Church – 1327 Dennison Ave\, Birmingham\, Alabama 35211 \nFREE ADMISSION \nEVENT WEBSITE CLICK HERE
URL:https://jrjmusicproductions.com/event/the-uab-gospel-choir-concert/
LOCATION:More Than Conquers Church\, 1327 Dennsion Ave\, Birmingham\, AL\, 35211\, United States
END:VEVENT
BEGIN:VEVENT
DTSTART;TZID=UTC:20251017T180000
DTEND;TZID=UTC:20251017T200000
DTSTAMP:20260423T151901
CREATED:20250925T000430Z
LAST-MODIFIED:20250925T000430Z
UID:2146-1760724000-1760731200@jrjmusicproductions.com
SUMMARY:UAB Fall Choral Collage Gospel Choir Performance
DESCRIPTION:October 17th at 6pm at Highlands United Methodist \nAddress: 1045 20th St S\, Birmingham\, AL 35205 \n 
URL:https://jrjmusicproductions.com/event/uab-fall-choral-collage-gospel-choir-performance/
LOCATION:Highlands United Methodist Church\, 1045 20th Street South\, Birmingham\, AL\, 35205\, United States
END:VEVENT
BEGIN:VEVENT
DTSTART;TZID=UTC:20250927T170000
DTEND;TZID=UTC:20250927T180000
DTSTAMP:20260423T151901
CREATED:20250924T235936Z
LAST-MODIFIED:20250924T235936Z
UID:2140-1758992400-1758996000@jrjmusicproductions.com
SUMMARY:Saxophone Performance at Arthur Shores Park
DESCRIPTION:Come join me at the 100 Years of Music Centennial Celebration at Arthur Shores Park! The link to tickets are below. Check out the flyer for all details. \n 
URL:https://jrjmusicproductions.com/event/saxophone-performance-at-arthur-shores-park/
LOCATION:Arthur Shores Park\, 1221 19th St N\, Birmingham\, AL\, 35234\, United States
END:VEVENT
BEGIN:VEVENT
DTSTART;TZID=UTC:20250421T180000
DTEND;TZID=UTC:20250421T200000
DTSTAMP:20260423T151901
CREATED:20241218T171216Z
LAST-MODIFIED:20241218T171216Z
UID:2112-1745258400-1745265600@jrjmusicproductions.com
SUMMARY:UAB Dept. of Music Spring Gospel Choir Concert
DESCRIPTION:Dr. James Reginald Jackson will be directing the spring gospel choir concert. This spirit-filled concert will feature the UAB Gospel Choir and high school students singing songs from trending styles and artists in gospel music.
URL:https://jrjmusicproductions.com/event/uab-dept-of-music-spring-gospel-choir-concert/
END:VEVENT
BEGIN:VEVENT
DTSTART;TZID=UTC:20250305T160000
DTEND;TZID=UTC:20250305T180000
DTSTAMP:20260423T151901
CREATED:20241218T170954Z
LAST-MODIFIED:20241218T171318Z
UID:2110-1741190400-1741197600@jrjmusicproductions.com
SUMMARY:UAB Dept. of Music High School Gospel Honor Choir Day
DESCRIPTION:Dr. Reginald Jackson is hosting the High Schol Gospel Honor Choir Day this year! The concert starts at 4pm at Jemison Concert Hall\, home of the Alabama Symphony Orchestra. \nContact email jrjack@uab.edu for the daylong schedule and registration for participants.
URL:https://jrjmusicproductions.com/event/uab-dept-of-music-high-school-gospel-honor-choir-day/
LOCATION:Jemison Concert Hall\, 1200 10th Ave S\, Birmingham\, AL\, 35294
END:VEVENT
BEGIN:VEVENT
DTSTART;VALUE=DATE:20250301
DTEND;VALUE=DATE:20250302
DTSTAMP:20260423T151901
CREATED:20241218T170712Z
LAST-MODIFIED:20241218T170712Z
UID:2108-1740787200-1740873599@jrjmusicproductions.com
SUMMARY:Gospel Keyboard Improvisation Day
DESCRIPTION:This exciting symposium is for beginner\, intermediate and advanced keyboard students interested in learning to teach and play various styles of Gospel\, R&B\, and Pop Music by ear. \nTickets: $10
URL:https://jrjmusicproductions.com/event/gospel-keyboard-improvisation-day/
LOCATION:Hulsey Recital Hall\, 950 13th St S\, Birmingham\, AL\, 35205\, United States
END:VEVENT
BEGIN:VEVENT
DTSTART;TZID=UTC:20250211T180000
DTEND;TZID=UTC:20250211T200000
DTSTAMP:20260423T151901
CREATED:20241218T170514Z
LAST-MODIFIED:20241218T170514Z
UID:2105-1739296800-1739304000@jrjmusicproductions.com
SUMMARY:UAB Dept. of Music Soulful Celebration
DESCRIPTION:Dr. Reginald Jackson and friends will be hosting a soulful celebration of music. $10 for the public. Free for students.
URL:https://jrjmusicproductions.com/event/uab-dept-of-music-soulful-celebration/
LOCATION:Hulsey Recital Hall\, 950 13th St S\, Birmingham\, AL\, 35205\, United States
END:VEVENT
BEGIN:VEVENT
DTSTART;TZID=UTC:20241221T110000
DTEND;TZID=UTC:20241221T140000
DTSTAMP:20260423T151901
CREATED:20241218T172947Z
LAST-MODIFIED:20241218T172947Z
UID:2119-1734778800-1734789600@jrjmusicproductions.com
SUMMARY:Psalm 150: An Instrumental Christmas Concert
DESCRIPTION:Please join us for this wonderful Christmas concert featuring Dr. Jackson\, Patrick Bogui\, Wayne Bucknor\, The Wilson Family\, Kelvin Wooten\, and more!
URL:https://jrjmusicproductions.com/event/psalm-150-an-instrumental-christmas-concert/
LOCATION:Oakwood University Church\, 5500 Adventist Blvd. NW\, Huntsville\, AL\, 35896\, United States
END:VEVENT
BEGIN:VEVENT
DTSTART;TZID=UTC:20241220T190000
DTEND;TZID=UTC:20241220T210000
DTSTAMP:20260423T151901
CREATED:20241218T172629Z
LAST-MODIFIED:20241218T172629Z
UID:2115-1734721200-1734728400@jrjmusicproductions.com
SUMMARY:Christmas Concert feat. The Birmingham Heritage Jazz Band
DESCRIPTION:Please join Dr. Jackson (saxophone) and the legendary Mr. Bo Berry (conductor) at this wonderful Christmas event. \nFriday\, Dec. 20th – 7pm-9pm
URL:https://jrjmusicproductions.com/event/christmas-concert-feat-the-birmingham-heritage-jazz-band/
LOCATION:Our Lady Queen of the Universe\, 961 Center St. N\, Birmingham\, AL\, 35204\, United States
END:VEVENT
BEGIN:VEVENT
DTSTART;TZID=UTC:20241117T180000
DTEND;TZID=UTC:20241117T210000
DTSTAMP:20260423T151901
CREATED:20240807T162805Z
LAST-MODIFIED:20240807T163706Z
UID:2073-1731866400-1731877200@jrjmusicproductions.com
SUMMARY:A Gospel Symphony Celebration feat. Lady Tramaine Hawkins
DESCRIPTION:On Nov. 17\, Gospel Legend Lady Tramaine Hawkins is presented in the reprise of the highly successful “A Gospel Symphony Celebration\,” singing many of the Classic Gospel Hit Songs she made famous.  Join the Alabama Symphony Orchestra\, One Premier Concert Hall\, UAB’s Alys Stephens Center\, with Henry Panion III\, conducting. Along with a few friends\, such as the UAB Gospel and Miles College choirs. Don’t wait\, reserve the best seats while they are available. \nTickets Available Here: https://my.alysstephens.org/3443
URL:https://jrjmusicproductions.com/event/a-gospel-symphony-celebration-feat-lady-tramaine-hawkins/
LOCATION:Alys Stephens Center\, 1200 10th Ave South\, Birmingham\, AL\, 35205\, United States
END:VEVENT
BEGIN:VEVENT
DTSTART;TZID=UTC:20241018T190000
DTEND;TZID=UTC:20241018T210000
DTSTAMP:20260423T151901
CREATED:20240807T162409Z
LAST-MODIFIED:20240807T163356Z
UID:2069-1729278000-1729285200@jrjmusicproductions.com
SUMMARY:The Choral Collage: UAB Dept. of Music
DESCRIPTION:On October 18th\, the UAB Choral Department presents the Choral Collage featuring the UAB Concert Choir\, Chamber Choir\, and the Gospel Choir. \nMore information here: https://calendar.uab.edu/event/uab-department-of-music-fall-choral-collage
URL:https://jrjmusicproductions.com/event/the-choral-collage-uab-dept-of-music/
LOCATION:Highlands United Methodist Church\, 1045 20th Street South\, Birmingham\, AL\, 35205\, United States
END:VEVENT
BEGIN:VEVENT
DTSTART;TZID=UTC:20240922T160000
DTEND;TZID=UTC:20240922T180000
DTSTAMP:20260423T151901
CREATED:20240807T154728Z
LAST-MODIFIED:20240807T163634Z
UID:2055-1727020800-1727028000@jrjmusicproductions.com
SUMMARY:Classical and Jazz Concert Series
DESCRIPTION:Join the ‘Reginald Jackson’ experience on piano and saxophone for an entertaining Jazz Concert in Decatur\, Alabama as part of the Classical and Jazz Concert Series. This exciting concert will take place on September 22\, 2024\, 4 PM\, at 133 Second Avenue NE\, Decatur\, Al. 35601-Recital Hall. \nAdults: $25 at the door. $20 advanced purchase. \nSeniors/Students: $20 at the door. $15 advanced purchase. \nTickets Here:
URL:https://jrjmusicproductions.com/event/classical-and-jazz-concert-series/
LOCATION:Decatur Concert Hall\, 133 Second Avenue NE\, Decatur\, AL\, 35601\, United States
END:VEVENT
BEGIN:VEVENT
DTSTART;VALUE=DATE:20240715
DTEND;VALUE=DATE:20240719
DTSTAMP:20260423T151901
CREATED:20240416T194553Z
LAST-MODIFIED:20240416T194553Z
UID:2019-1721001600-1721347199@jrjmusicproductions.com
SUMMARY:57th Annual Gospel Music Workshop: Teach Yourself to Play Piano by Ear
DESCRIPTION:The Gospel Music Workshop of America is a non-profit association of gospel singers and musicians. It includes ministers\, educators\, business professionals and higher education partnerships. These partnerships provide continuing education\, collaboration and communication of ideas for the advancement of sacred and gospel music. This is the 57th annual GMWA and Dr. Jackson’s 4th appearance as a lecturer to inform musicians about playing piano by ear using gospel keyboard methods.
URL:https://jrjmusicproductions.com/event/57th-annual-gospel-music-workshop-teach-yourself-to-play-piano-by-ear/
LOCATION:Renasant Convention Center\, 255 N Main St\, Memphis\, TN\, 38103\, United States
END:VEVENT
BEGIN:VEVENT
DTSTART;VALUE=DATE:20240522
DTEND;VALUE=DATE:20240529
DTSTAMP:20260423T151901
CREATED:20240416T193936Z
LAST-MODIFIED:20240416T193936Z
UID:2017-1716336000-1716940799@jrjmusicproductions.com
SUMMARY:Saxophone Performance and Keyboard Lecture at Conservatorio Nacional de Música Santo Domingo
DESCRIPTION:Dr. James Reginald Jackson is giving a lecture in gospel keyboard improvisation at the National Music Conservatory in Santo Domingo\, Dominican Republic. He will also be giving a saxophone performance. This will take place over an one whole week\, May 22 – May 28.
URL:https://jrjmusicproductions.com/event/saxophone-performance-and-keyboard-lecture-at-conservatorio-nacional-de-musica-santo-domingo/
END:VEVENT
BEGIN:VEVENT
DTSTART;TZID=UTC:20240513T180000
DTEND;TZID=UTC:20240513T200000
DTSTAMP:20260423T151901
CREATED:20240416T193425Z
LAST-MODIFIED:20240416T194803Z
UID:2014-1715623200-1715630400@jrjmusicproductions.com
SUMMARY:Concerts in the Park: Reginald Jackson & Friends (FREE)
DESCRIPTION:Decatur Park Concerts\, the River City’s outdoor concert series\, will kickoff for the season on Monday at Founders Park with music by The Beasley Brothers. The free concert will have food trucks on site. make sure to bring lawn chairs and blankets. Other upcoming concerts in the series include Tosha Hill Band on April 22\, Remnants on April 29\, Elvis Presley tribute artist Michael Dean & Memphis on May 6\, Reginald Jackson on May 13 and The Flashbacks on May 20.
URL:https://jrjmusicproductions.com/event/concerts-in-the-park-reginald-jackson-friends-free/
LOCATION:Daikin Amphitheater at Founder’s Park\, 905 Canal St NE\, Decatur\, AL\, 35601\, United States
END:VEVENT
BEGIN:VEVENT
DTSTART;TZID=UTC:20240415T190000
DTEND;TZID=UTC:20240415T210000
DTSTAMP:20260423T151901
CREATED:20240404T195453Z
LAST-MODIFIED:20240404T195454Z
UID:2005-1713207600-1713214800@jrjmusicproductions.com
SUMMARY:UAB Gospel Choir Spring Concert
DESCRIPTION:
URL:https://jrjmusicproductions.com/event/uab-gospel-choir-spring-concert/
LOCATION:Jemison Concert Hall\, 1200 10th Ave S\, Birmingham\, AL\, 35294
END:VEVENT
BEGIN:VEVENT
DTSTART;TZID=UTC:20240406T180000
DTEND;TZID=UTC:20240406T193000
DTSTAMP:20260423T151901
CREATED:20240404T200115Z
LAST-MODIFIED:20240404T200115Z
UID:2008-1712426400-1712431800@jrjmusicproductions.com
SUMMARY:National Anthem at Regions Field
DESCRIPTION:
URL:https://jrjmusicproductions.com/event/national-anthem-at-regions-field/
LOCATION:Regions Field\, 1401 1st Ave S\, Birmingham\, AL\, 35233\, United States
END:VEVENT
BEGIN:VEVENT
DTSTART;VALUE=DATE:20210214
DTEND;VALUE=DATE:20210215
DTSTAMP:20260423T151901
CREATED:20201213T231343Z
LAST-MODIFIED:20210126T041044Z
UID:1348-1613260800-1613347199@jrjmusicproductions.com
SUMMARY:Saxy Gram's
DESCRIPTION:
URL:https://jrjmusicproductions.com/event/saxy-grams/
LOCATION:Saxy Gram’s
END:VEVENT
BEGIN:VEVENT
DTSTART;TZID=UTC:20201202T080000
DTEND;TZID=UTC:20201202T170000
DTSTAMP:20260423T151901
CREATED:20201202T064840Z
LAST-MODIFIED:20201202T064840Z
UID:1263-1606896000-1606928400@jrjmusicproductions.com
SUMMARY:President's Diversity Champion Award
DESCRIPTION:UAB Wind Symphony and Symphonic Band Concert
URL:https://jrjmusicproductions.com/event/presidents-diversity-champion-award/
LOCATION:UAB Wind Symphony/Band Concert\, 1200 10th Ave S\, Birmingham\, AL\, 35294\, United States
END:VEVENT
BEGIN:VEVENT
DTSTART;TZID=UTC:20200719T080000
DTEND;TZID=UTC:20200724T170000
DTSTAMP:20260423T151901
CREATED:20201202T060300Z
LAST-MODIFIED:20201202T060354Z
UID:1233-1595145600-1595610000@jrjmusicproductions.com
SUMMARY:Gospel Music Workshop of America (GMWA)
DESCRIPTION:Faculty Presenter
URL:https://jrjmusicproductions.com/event/gospel-music-workshop-of-america-gmwa/
LOCATION:Gospel Music Workshop of America (GMWA)\, Gospel Music Workshop of America (GMWA)\, Missouri\, KS\, United States
END:VEVENT
BEGIN:VEVENT
DTSTART;VALUE=DATE:20200706
DTEND;VALUE=DATE:20200707
DTSTAMP:20260423T151901
CREATED:20201202T061045Z
LAST-MODIFIED:20201202T061333Z
UID:1247-1593993600-1594079999@jrjmusicproductions.com
SUMMARY:Paul Stroud
DESCRIPTION:Concert Performance
URL:https://jrjmusicproductions.com/event/paul-stroud-concerts-by-the-river/
LOCATION:Concerts by the River\, Rhodes Ferry Park\, Decatur\, AL\, United States
END:VEVENT
BEGIN:VEVENT
DTSTART;VALUE=DATE:20200627
DTEND;VALUE=DATE:20200628
DTSTAMP:20260423T151901
CREATED:20201202T062219Z
LAST-MODIFIED:20201202T062354Z
UID:1252-1593216000-1593302399@jrjmusicproductions.com
SUMMARY:Love of Music Gala
DESCRIPTION:Award Recipient
URL:https://jrjmusicproductions.com/event/love-of-music-gala/
LOCATION:Love of Music Gala\, Alabama A&M University\, Huntsville\, AL\, United States
END:VEVENT
BEGIN:VEVENT
DTSTART;TZID=UTC:20200524T080000
DTEND;TZID=UTC:20200531T170000
DTSTAMP:20260423T151901
CREATED:20201202T062740Z
LAST-MODIFIED:20201202T062740Z
UID:1255-1590307200-1590944400@jrjmusicproductions.com
SUMMARY:Manchester
DESCRIPTION:Workshop
URL:https://jrjmusicproductions.com/event/manchester/
LOCATION:Manchester\, UK\, Manchester\, Ukraine
END:VEVENT
BEGIN:VEVENT
DTSTART;TZID=UTC:20200501T080000
DTEND;TZID=UTC:20200503T170000
DTSTAMP:20260423T151901
CREATED:20201202T063337Z
LAST-MODIFIED:20201202T063431Z
UID:1258-1588320000-1588525200@jrjmusicproductions.com
SUMMARY:Kadena Gospel Music Workshop
DESCRIPTION:Workshop
URL:https://jrjmusicproductions.com/event/kadena-gospel-music-workshop/
LOCATION:Kadena Gospel Music Wokshop\, Okinawa\, Japan
END:VEVENT
BEGIN:VEVENT
DTSTART;TZID=UTC:20200427T080000
DTEND;TZID=UTC:20200430T170000
DTSTAMP:20260423T151901
CREATED:20201202T063759Z
LAST-MODIFIED:20201202T063759Z
UID:1261-1587974400-1588266000@jrjmusicproductions.com
SUMMARY:Kadena Gospel Music Workshop
DESCRIPTION:Workshop
URL:https://jrjmusicproductions.com/event/kadena-gospel-music-workshop-2/
LOCATION:Kadena Gospel Music Wokshop\, Okinawa\, Japan
END:VEVENT
BEGIN:VEVENT
DTSTART;VALUE=DATE:20200120
DTEND;VALUE=DATE:20200121
DTSTAMP:20260423T151901
CREATED:20201202T065551Z
LAST-MODIFIED:20201202T065647Z
UID:1266-1579478400-1579564799@jrjmusicproductions.com
SUMMARY:Alpha Phi Alpha 35th Annual MLK Unity Breakfast
DESCRIPTION:Seminar
URL:https://jrjmusicproductions.com/event/alpha-phi-alpha-35th-annual-mlk-unity-breakfast/
LOCATION:Alpha Phi Alpha 35th Annual MLK Unity Breakfast\, Civic Center\, Huntsville\, AL\, United States
END:VEVENT
END:VCALENDAR